BEGIN:VCALENDAR
VERSION:2.0
PRODID:-//Christ Community Church - ECPv6.15.20//NONSGML v1.0//EN
CALSCALE:GREGORIAN
METHOD:PUBLISH
X-WR-CALNAME:Christ Community Church
X-ORIGINAL-URL:https://cccgreeley.org
X-WR-CALDESC:Events for Christ Community Church
REFRESH-INTERVAL;VALUE=DURATION:PT1H
X-Robots-Tag:noindex
X-PUBLISHED-TTL:PT1H
BEGIN:VTIMEZONE
TZID:America/Denver
BEGIN:DAYLIGHT
TZOFFSETFROM:-0700
TZOFFSETTO:-0600
TZNAME:MDT
DTSTART:20250309T090000
END:DAYLIGHT
BEGIN:STANDARD
TZOFFSETFROM:-0600
TZOFFSETTO:-0700
TZNAME:MST
DTSTART:20251102T080000
END:STANDARD
BEGIN:DAYLIGHT
TZOFFSETFROM:-0700
TZOFFSETTO:-0600
TZNAME:MDT
DTSTART:20260308T090000
END:DAYLIGHT
BEGIN:STANDARD
TZOFFSETFROM:-0600
TZOFFSETTO:-0700
TZNAME:MST
DTSTART:20261101T080000
END:STANDARD
BEGIN:DAYLIGHT
TZOFFSETFROM:-0700
TZOFFSETTO:-0600
TZNAME:MDT
DTSTART:20270314T090000
END:DAYLIGHT
BEGIN:STANDARD
TZOFFSETFROM:-0600
TZOFFSETTO:-0700
TZNAME:MST
DTSTART:20271107T080000
END:STANDARD
END:VTIMEZONE
BEGIN:VEVENT
DTSTART;TZID=America/Denver:20260429T180000
DTEND;TZID=America/Denver:20260429T200000
DTSTAMP:20260421T081727
CREATED:20251215T170832Z
LAST-MODIFIED:20260113T000356Z
UID:990002394-1777485600-1777492800@cccgreeley.org
SUMMARY:CCKids Club
DESCRIPTION:Calling all Kindergarteners through 4th graders! Join us for food\, fun\, and fellowship every Wednesday evening through April 29th! Loopers (5th & 6th graders) are invited to join us as leaders. Dinner will be provided for all who attend. Please note\, there will be no CCKids Club on Wednesday\, March 18th. \nNo need to register. Contact Angella with questions at angellab@cccgreeley.org.
URL:https://cccgreeley.org/event/cckids-club/2026-04-29/
LOCATION:Christ Community-Playhouse\, 1305 15th Street\, Greeley\, CO\, 80631\, United States
CATEGORIES:CC Kids
ATTACH;FMTTYPE=image/jpeg:https://cccgreeley.org/wp-content/uploads/2025/07/CCKids-Club-2024-Event-Slide.jpg
END:VEVENT
END:VCALENDAR