BEGIN:VCALENDAR
VERSION:2.0
PRODID:-//Christ Community Church - ECPv6.15.20//NONSGML v1.0//EN
CALSCALE:GREGORIAN
METHOD:PUBLISH
X-WR-CALNAME:Christ Community Church
X-ORIGINAL-URL:https://cccgreeley.org
X-WR-CALDESC:Events for Christ Community Church
REFRESH-INTERVAL;VALUE=DURATION:PT1H
X-Robots-Tag:noindex
X-PUBLISHED-TTL:PT1H
BEGIN:VTIMEZONE
TZID:America/Denver
BEGIN:DAYLIGHT
TZOFFSETFROM:-0700
TZOFFSETTO:-0600
TZNAME:MDT
DTSTART:20250309T090000
END:DAYLIGHT
BEGIN:STANDARD
TZOFFSETFROM:-0600
TZOFFSETTO:-0700
TZNAME:MST
DTSTART:20251102T080000
END:STANDARD
BEGIN:DAYLIGHT
TZOFFSETFROM:-0700
TZOFFSETTO:-0600
TZNAME:MDT
DTSTART:20260308T090000
END:DAYLIGHT
BEGIN:STANDARD
TZOFFSETFROM:-0600
TZOFFSETTO:-0700
TZNAME:MST
DTSTART:20261101T080000
END:STANDARD
BEGIN:DAYLIGHT
TZOFFSETFROM:-0700
TZOFFSETTO:-0600
TZNAME:MDT
DTSTART:20270314T090000
END:DAYLIGHT
BEGIN:STANDARD
TZOFFSETFROM:-0600
TZOFFSETTO:-0700
TZNAME:MST
DTSTART:20271107T080000
END:STANDARD
END:VTIMEZONE
BEGIN:VEVENT
DTSTART;TZID=America/Denver:20260603T090000
DTEND;TZID=America/Denver:20260603T233000
DTSTAMP:20260421T100813
CREATED:20260328T133622Z
LAST-MODIFIED:20260323T203958Z
UID:990002508-1780477200-1780529400@cccgreeley.org
SUMMARY:CCKids "Wild West" Morning Adventure Camp
DESCRIPTION:Join us June 1–4 from 9-11:30 am for a “Wild West” Morning Adventure Camp at CCC! Kids entering 1st–4th grade are invited to four fun-filled mornings of teaching\, worship\, games\, and crafts as they learn about God’s love. Fifth and sixth graders are welcome to join as helpers\, assisting with snacks\, crafts\, and games-just add your 5th or 6th grader to the registration form. Cost is $10 per child. Email Angella at angellab@cccgreeley.org with questions.
URL:https://cccgreeley.org/event/cckids-wild-west-morning-adventure-camp/2026-06-03/
LOCATION:Christ Community Church\, 1301 15th Street\, Greeley\, CO\, 80631\, United States
CATEGORIES:CC Kids
ATTACH;FMTTYPE=image/jpeg:https://cccgreeley.org/wp-content/uploads/2026/03/CCKids-Wild-West-Event-Slide.jpg
END:VEVENT
END:VCALENDAR