BEGIN:VCALENDAR
VERSION:2.0
PRODID:-//Christ Community Church - ECPv6.15.20//NONSGML v1.0//EN
CALSCALE:GREGORIAN
METHOD:PUBLISH
X-WR-CALNAME:Christ Community Church
X-ORIGINAL-URL:https://cccgreeley.org
X-WR-CALDESC:Events for Christ Community Church
REFRESH-INTERVAL;VALUE=DURATION:PT1H
X-Robots-Tag:noindex
X-PUBLISHED-TTL:PT1H
BEGIN:VTIMEZONE
TZID:America/Denver
BEGIN:DAYLIGHT
TZOFFSETFROM:-0700
TZOFFSETTO:-0600
TZNAME:MDT
DTSTART:20250309T090000
END:DAYLIGHT
BEGIN:STANDARD
TZOFFSETFROM:-0600
TZOFFSETTO:-0700
TZNAME:MST
DTSTART:20251102T080000
END:STANDARD
BEGIN:DAYLIGHT
TZOFFSETFROM:-0700
TZOFFSETTO:-0600
TZNAME:MDT
DTSTART:20260308T090000
END:DAYLIGHT
BEGIN:STANDARD
TZOFFSETFROM:-0600
TZOFFSETTO:-0700
TZNAME:MST
DTSTART:20261101T080000
END:STANDARD
BEGIN:DAYLIGHT
TZOFFSETFROM:-0700
TZOFFSETTO:-0600
TZNAME:MDT
DTSTART:20270314T090000
END:DAYLIGHT
BEGIN:STANDARD
TZOFFSETFROM:-0600
TZOFFSETTO:-0700
TZNAME:MST
DTSTART:20271107T080000
END:STANDARD
END:VTIMEZONE
BEGIN:VEVENT
DTSTART;TZID=America/Denver:20260617T183000
DTEND;TZID=America/Denver:20260617T203000
DTSTAMP:20260419T101707
CREATED:20260311T185657Z
LAST-MODIFIED:20260311T185908Z
UID:990002475-1781721000-1781728200@cccgreeley.org
SUMMARY:CCStudent Night
DESCRIPTION:Student Night is the place to be for 7th–12th grade students! Join us for an evening packed with exciting games\, an engaging message\, and time to connect with friends and leaders. Invite a friend and come be part of the fun! Email Pastor Stetson with questions at stetsonb@cccgreeley.org.
URL:https://cccgreeley.org/event/ccstudent-night-2/2026-06-17/
LOCATION:Zoë’s Café\, 715 10th Street\, Greeley\, CO\, 80631\, United States
CATEGORIES:CC Students
ATTACH;FMTTYPE=image/jpeg:https://cccgreeley.org/wp-content/uploads/2024/08/Student-Night-2024-2025-Event-Slide.jpg
END:VEVENT
END:VCALENDAR