BEGIN:VCALENDAR
VERSION:2.0
PRODID:-//Christ Community Church - ECPv6.15.20//NONSGML v1.0//EN
CALSCALE:GREGORIAN
METHOD:PUBLISH
X-WR-CALNAME:Christ Community Church
X-ORIGINAL-URL:https://cccgreeley.org
X-WR-CALDESC:Events for Christ Community Church
REFRESH-INTERVAL;VALUE=DURATION:PT1H
X-Robots-Tag:noindex
X-PUBLISHED-TTL:PT1H
BEGIN:VTIMEZONE
TZID:America/Denver
BEGIN:DAYLIGHT
TZOFFSETFROM:-0700
TZOFFSETTO:-0600
TZNAME:MDT
DTSTART:20250309T090000
END:DAYLIGHT
BEGIN:STANDARD
TZOFFSETFROM:-0600
TZOFFSETTO:-0700
TZNAME:MST
DTSTART:20251102T080000
END:STANDARD
BEGIN:DAYLIGHT
TZOFFSETFROM:-0700
TZOFFSETTO:-0600
TZNAME:MDT
DTSTART:20260308T090000
END:DAYLIGHT
BEGIN:STANDARD
TZOFFSETFROM:-0600
TZOFFSETTO:-0700
TZNAME:MST
DTSTART:20261101T080000
END:STANDARD
BEGIN:DAYLIGHT
TZOFFSETFROM:-0700
TZOFFSETTO:-0600
TZNAME:MDT
DTSTART:20270314T090000
END:DAYLIGHT
BEGIN:STANDARD
TZOFFSETFROM:-0600
TZOFFSETTO:-0700
TZNAME:MST
DTSTART:20271107T080000
END:STANDARD
END:VTIMEZONE
BEGIN:VEVENT
DTSTART;VALUE=DATE:20260720
DTEND;VALUE=DATE:20260725
DTSTAMP:20260421T100610
CREATED:20260413T163811Z
LAST-MODIFIED:20260420T214018Z
UID:987524553-1784505600-1784937599@cccgreeley.org
SUMMARY:CCStudents Local Mission Trip
DESCRIPTION:All 8th–12th graders are invited to join us for a week of serving right here in Greeley from July 20th-24th! Students will spend their days partnering with local nonprofits that support the marginalized\, and their evenings enjoying fun activities and time together as a community. Each night\, students will stay at Zoë’s Café. The cost is $200 per student\, with all meals and transportation provided ($150 for each additional sibling attending). \nCome be part of a meaningful week of serving\, growing\, and building friendships. (Eighth graders include those entering 8th grade in Fall 2026.) \nPlease register below\, and email Pastor Stetson at stetsonb@cccgreeley.org with questions.
URL:https://cccgreeley.org/event/ccstudents-local-mission-trip/
LOCATION:Zoë’s Café\, 715 10th Street\, Greeley\, CO\, 80631\, United States
CATEGORIES:CC Students
ATTACH;FMTTYPE=image/jpeg:https://cccgreeley.org/wp-content/uploads/2026/04/CCStudents-Local-Mission-Trip-Event-Slide-1.jpg
END:VEVENT
END:VCALENDAR