BEGIN:VCALENDAR
VERSION:2.0
PRODID:-//Christ Community Church - ECPv6.15.20//NONSGML v1.0//EN
CALSCALE:GREGORIAN
METHOD:PUBLISH
X-WR-CALNAME:Christ Community Church
X-ORIGINAL-URL:https://cccgreeley.org
X-WR-CALDESC:Events for Christ Community Church
REFRESH-INTERVAL;VALUE=DURATION:PT1H
X-Robots-Tag:noindex
X-PUBLISHED-TTL:PT1H
BEGIN:VTIMEZONE
TZID:America/Denver
BEGIN:DAYLIGHT
TZOFFSETFROM:-0700
TZOFFSETTO:-0600
TZNAME:MDT
DTSTART:20250309T090000
END:DAYLIGHT
BEGIN:STANDARD
TZOFFSETFROM:-0600
TZOFFSETTO:-0700
TZNAME:MST
DTSTART:20251102T080000
END:STANDARD
BEGIN:DAYLIGHT
TZOFFSETFROM:-0700
TZOFFSETTO:-0600
TZNAME:MDT
DTSTART:20260308T090000
END:DAYLIGHT
BEGIN:STANDARD
TZOFFSETFROM:-0600
TZOFFSETTO:-0700
TZNAME:MST
DTSTART:20261101T080000
END:STANDARD
BEGIN:DAYLIGHT
TZOFFSETFROM:-0700
TZOFFSETTO:-0600
TZNAME:MDT
DTSTART:20270314T090000
END:DAYLIGHT
BEGIN:STANDARD
TZOFFSETFROM:-0600
TZOFFSETTO:-0700
TZNAME:MST
DTSTART:20271107T080000
END:STANDARD
END:VTIMEZONE
BEGIN:VEVENT
DTSTART;TZID=America/Denver:20260527T183000
DTEND;TZID=America/Denver:20260527T203000
DTSTAMP:20260421T100611
CREATED:20260310T200948Z
LAST-MODIFIED:20260310T200948Z
UID:987524245-1779906600-1779913800@cccgreeley.org
SUMMARY:CCStudents Summer Kick Off
DESCRIPTION:Students in grades 8–12 are invited to Zoe’s Café in the Belair on Wednesday\, May 27th to kick off summer together! Join us for a fun evening filled with games\, great food\, prizes\, and a chance to celebrate the start of summer with friends. Don’t miss it! \nEmail Pastor Stetson at stetsonb@cccgreeley.org with questions.
URL:https://cccgreeley.org/event/ccstudents-summer-kick-off/
LOCATION:The Belair at Zoë’s Café\, 711 10th Street\, Greeley\, CO\, 80631\, United States
CATEGORIES:CC Students
ATTACH;FMTTYPE=image/jpeg:https://cccgreeley.org/wp-content/uploads/2026/03/CCStudents-Summer-Kick-Off-Event-Slide.jpg
END:VEVENT
END:VCALENDAR