BEGIN:VCALENDAR
VERSION:2.0
PRODID:-//Christ Community Church - ECPv6.15.20//NONSGML v1.0//EN
CALSCALE:GREGORIAN
METHOD:PUBLISH
X-WR-CALNAME:Christ Community Church
X-ORIGINAL-URL:https://cccgreeley.org
X-WR-CALDESC:Events for Christ Community Church
REFRESH-INTERVAL;VALUE=DURATION:PT1H
X-Robots-Tag:noindex
X-PUBLISHED-TTL:PT1H
BEGIN:VTIMEZONE
TZID:America/Denver
BEGIN:DAYLIGHT
TZOFFSETFROM:-0700
TZOFFSETTO:-0600
TZNAME:MDT
DTSTART:20250309T090000
END:DAYLIGHT
BEGIN:STANDARD
TZOFFSETFROM:-0600
TZOFFSETTO:-0700
TZNAME:MST
DTSTART:20251102T080000
END:STANDARD
BEGIN:DAYLIGHT
TZOFFSETFROM:-0700
TZOFFSETTO:-0600
TZNAME:MDT
DTSTART:20260308T090000
END:DAYLIGHT
BEGIN:STANDARD
TZOFFSETFROM:-0600
TZOFFSETTO:-0700
TZNAME:MST
DTSTART:20261101T080000
END:STANDARD
BEGIN:DAYLIGHT
TZOFFSETFROM:-0700
TZOFFSETTO:-0600
TZNAME:MDT
DTSTART:20270314T090000
END:DAYLIGHT
BEGIN:STANDARD
TZOFFSETFROM:-0600
TZOFFSETTO:-0700
TZNAME:MST
DTSTART:20271107T080000
END:STANDARD
END:VTIMEZONE
BEGIN:VEVENT
DTSTART;TZID=America/Denver:20260530T170000
DTEND;TZID=America/Denver:20260531T123000
DTSTAMP:20260421T080421
CREATED:20260309T183248Z
LAST-MODIFIED:20260309T183248Z
UID:987524228-1780160400-1780230600@cccgreeley.org
SUMMARY:Grade Move-Up Weekend
DESCRIPTION:On May 30th & 31st\, all of our CCKids are leveling up to the next grade! We’re also excited to celebrate our incoming 5th graders as they graduate into the Loop. Our soon-to-be kindergarteners will have their special move up to CCKids coming this August. Adventure awaits as each of these kids steps into their next stage!
URL:https://cccgreeley.org/event/grade-move-up-weekend/
LOCATION:Christ Community-Playhouse\, 1305 15th Street\, Greeley\, CO\, 80631\, United States
CATEGORIES:CC Kids
ATTACH;FMTTYPE=image/jpeg:https://cccgreeley.org/wp-content/uploads/2026/03/Grade-Move-Up-Weekend-Event-Slide.jpg
END:VEVENT
END:VCALENDAR