BEGIN:VCALENDAR
VERSION:2.0
PRODID:-//Christ Community Church - ECPv6.15.20//NONSGML v1.0//EN
CALSCALE:GREGORIAN
METHOD:PUBLISH
X-WR-CALNAME:Christ Community Church
X-ORIGINAL-URL:https://cccgreeley.org
X-WR-CALDESC:Events for Christ Community Church
REFRESH-INTERVAL;VALUE=DURATION:PT1H
X-Robots-Tag:noindex
X-PUBLISHED-TTL:PT1H
BEGIN:VTIMEZONE
TZID:America/Denver
BEGIN:DAYLIGHT
TZOFFSETFROM:-0700
TZOFFSETTO:-0600
TZNAME:MDT
DTSTART:20250309T090000
END:DAYLIGHT
BEGIN:STANDARD
TZOFFSETFROM:-0600
TZOFFSETTO:-0700
TZNAME:MST
DTSTART:20251102T080000
END:STANDARD
BEGIN:DAYLIGHT
TZOFFSETFROM:-0700
TZOFFSETTO:-0600
TZNAME:MDT
DTSTART:20260308T090000
END:DAYLIGHT
BEGIN:STANDARD
TZOFFSETFROM:-0600
TZOFFSETTO:-0700
TZNAME:MST
DTSTART:20261101T080000
END:STANDARD
BEGIN:DAYLIGHT
TZOFFSETFROM:-0700
TZOFFSETTO:-0600
TZNAME:MDT
DTSTART:20270314T090000
END:DAYLIGHT
BEGIN:STANDARD
TZOFFSETFROM:-0600
TZOFFSETTO:-0700
TZNAME:MST
DTSTART:20271107T080000
END:STANDARD
END:VTIMEZONE
BEGIN:VEVENT
DTSTART;TZID=America/Denver:20260424T074500
DTEND;TZID=America/Denver:20260424T144500
DTSTAMP:20260421T081635
CREATED:20260302T162719Z
LAST-MODIFIED:20260317T152933Z
UID:987524121-1777016700-1777041900@cccgreeley.org
SUMMARY:Maplewood Field Day Volunteers
DESCRIPTION:We’re looking for volunteers to serve at Maplewood Elementary’s Field Day on Friday\, April 24th! This is a great opportunity to show up for our neighbors and continue our partnership with Maplewood by cheering on students and helping make the day fun and memorable. \nIf you’d like to serve during a morning (7:45 am-10:30 am) or afternoon shift (11:45 am-2:40 pm)\, please click the “register” button below. Email John Miller at jmiller14@greeleyschools.org for questions.
URL:https://cccgreeley.org/event/maplewood-field-day-volunteers/
LOCATION:Maplewood Elementary
CATEGORIES:Volunteer Opportunity
ATTACH;FMTTYPE=image/jpeg:https://cccgreeley.org/wp-content/uploads/2026/03/Maplewood-Field-Day-2026-Event-Slide-1.jpg
END:VEVENT
END:VCALENDAR