BEGIN:VCALENDAR
VERSION:2.0
PRODID:-//Christ Community Church - ECPv6.15.20//NONSGML v1.0//EN
CALSCALE:GREGORIAN
METHOD:PUBLISH
X-WR-CALNAME:Christ Community Church
X-ORIGINAL-URL:https://cccgreeley.org
X-WR-CALDESC:Events for Christ Community Church
REFRESH-INTERVAL;VALUE=DURATION:PT1H
X-Robots-Tag:noindex
X-PUBLISHED-TTL:PT1H
BEGIN:VTIMEZONE
TZID:America/Denver
BEGIN:DAYLIGHT
TZOFFSETFROM:-0700
TZOFFSETTO:-0600
TZNAME:MDT
DTSTART:20250309T090000
END:DAYLIGHT
BEGIN:STANDARD
TZOFFSETFROM:-0600
TZOFFSETTO:-0700
TZNAME:MST
DTSTART:20251102T080000
END:STANDARD
BEGIN:DAYLIGHT
TZOFFSETFROM:-0700
TZOFFSETTO:-0600
TZNAME:MDT
DTSTART:20260308T090000
END:DAYLIGHT
BEGIN:STANDARD
TZOFFSETFROM:-0600
TZOFFSETTO:-0700
TZNAME:MST
DTSTART:20261101T080000
END:STANDARD
BEGIN:DAYLIGHT
TZOFFSETFROM:-0700
TZOFFSETTO:-0600
TZNAME:MDT
DTSTART:20270314T090000
END:DAYLIGHT
BEGIN:STANDARD
TZOFFSETFROM:-0600
TZOFFSETTO:-0700
TZNAME:MST
DTSTART:20271107T080000
END:STANDARD
END:VTIMEZONE
BEGIN:VEVENT
DTSTART;TZID=America/Denver:20260624T110000
DTEND;TZID=America/Denver:20260624T130000
DTSTAMP:20260421T100633
CREATED:20260318T221018Z
LAST-MODIFIED:20260318T221018Z
UID:987524368-1782298800-1782306000@cccgreeley.org
SUMMARY:Popsicles in the Park
DESCRIPTION:Pack your lunch\, swim suits\, towels\, and bug spray\, and join us for Popsicles in the Park from 11 am-12 noon\, followed by splash pad water fun from 12-1 pm. It’s a great way to enjoy the summer and build community with other families! Please remember this is not a drop-off event. Check the Tiny Tots Facebook page the morning of each meet-up for any updates or changes.
URL:https://cccgreeley.org/event/popsicles-in-the-park-4/
LOCATION:Delta Park\, 240 E. 24th Street\, Greeley\, CO\, 80631\, United States
CATEGORIES:Tiny Tots
ATTACH;FMTTYPE=image/jpeg:https://cccgreeley.org/wp-content/uploads/2026/03/Popsicles-in-the-Park-Event-Slide.jpg
END:VEVENT
END:VCALENDAR