BEGIN:VCALENDAR
VERSION:2.0
PRODID:-//Christ Community Church - ECPv6.15.20//NONSGML v1.0//EN
CALSCALE:GREGORIAN
METHOD:PUBLISH
X-WR-CALNAME:Christ Community Church
X-ORIGINAL-URL:https://cccgreeley.org
X-WR-CALDESC:Events for Christ Community Church
REFRESH-INTERVAL;VALUE=DURATION:PT1H
X-Robots-Tag:noindex
X-PUBLISHED-TTL:PT1H
BEGIN:VTIMEZONE
TZID:America/Denver
BEGIN:DAYLIGHT
TZOFFSETFROM:-0700
TZOFFSETTO:-0600
TZNAME:MDT
DTSTART:20250309T090000
END:DAYLIGHT
BEGIN:STANDARD
TZOFFSETFROM:-0600
TZOFFSETTO:-0700
TZNAME:MST
DTSTART:20251102T080000
END:STANDARD
BEGIN:DAYLIGHT
TZOFFSETFROM:-0700
TZOFFSETTO:-0600
TZNAME:MDT
DTSTART:20260308T090000
END:DAYLIGHT
BEGIN:STANDARD
TZOFFSETFROM:-0600
TZOFFSETTO:-0700
TZNAME:MST
DTSTART:20261101T080000
END:STANDARD
BEGIN:DAYLIGHT
TZOFFSETFROM:-0700
TZOFFSETTO:-0600
TZNAME:MDT
DTSTART:20270314T090000
END:DAYLIGHT
BEGIN:STANDARD
TZOFFSETFROM:-0600
TZOFFSETTO:-0700
TZNAME:MST
DTSTART:20271107T080000
END:STANDARD
END:VTIMEZONE
BEGIN:VEVENT
DTSTART;TZID=America/Denver:20260422T080000
DTEND;TZID=America/Denver:20260422T170000
DTSTAMP:20260421T080600
CREATED:20251215T170407Z
LAST-MODIFIED:20251215T170407Z
UID:990002289-1776844800-1776877200@cccgreeley.org
SUMMARY:Tots Club
DESCRIPTION:Give your little ones the perfect opportunity to socialize with peers while learning about God’s love! Tots Club will meet on Wednesday mornings from 9-11 am\, starting January 21st. This dedicated time allows kids to thrive in a space designed especially for them\, while parents can connect with other parents\, join a Bible study\, or simply enjoy a couple of hours to themselves. We ask that all moms that have their littles registered for Tots Club pick just ONE Wednesday morning to volunteer in a room with us! Please note\, we will not meet on Wednesday\, March 18th. \nPlease register by January 11th.  Contact Angella at angellab@cccgreeley.org or Melinda at melindac@cccgreeley.org with questions.
URL:https://cccgreeley.org/event/tots-club/2026-04-22/
LOCATION:Christ Community Church\, 1301 15th Street\, Greeley\, CO\, 80631\, United States
CATEGORIES:Tiny Tots
ATTACH;FMTTYPE=image/jpeg:https://cccgreeley.org/wp-content/uploads/2024/07/Tots-Club-2024-Event-Slide.jpg
END:VEVENT
END:VCALENDAR