BEGIN:VCALENDAR
VERSION:2.0
PRODID:-//Christ Community Church - ECPv6.15.20//NONSGML v1.0//EN
CALSCALE:GREGORIAN
METHOD:PUBLISH
X-ORIGINAL-URL:https://cccgreeley.org
X-WR-CALDESC:Events for Christ Community Church
REFRESH-INTERVAL;VALUE=DURATION:PT1H
X-Robots-Tag:noindex
X-PUBLISHED-TTL:PT1H
BEGIN:VTIMEZONE
TZID:America/Denver
BEGIN:DAYLIGHT
TZOFFSETFROM:-0700
TZOFFSETTO:-0600
TZNAME:MDT
DTSTART:20250309T090000
END:DAYLIGHT
BEGIN:STANDARD
TZOFFSETFROM:-0600
TZOFFSETTO:-0700
TZNAME:MST
DTSTART:20251102T080000
END:STANDARD
BEGIN:DAYLIGHT
TZOFFSETFROM:-0700
TZOFFSETTO:-0600
TZNAME:MDT
DTSTART:20260308T090000
END:DAYLIGHT
BEGIN:STANDARD
TZOFFSETFROM:-0600
TZOFFSETTO:-0700
TZNAME:MST
DTSTART:20261101T080000
END:STANDARD
BEGIN:DAYLIGHT
TZOFFSETFROM:-0700
TZOFFSETTO:-0600
TZNAME:MDT
DTSTART:20270314T090000
END:DAYLIGHT
BEGIN:STANDARD
TZOFFSETFROM:-0600
TZOFFSETTO:-0700
TZNAME:MST
DTSTART:20271107T080000
END:STANDARD
END:VTIMEZONE
BEGIN:VEVENT
DTSTART;TZID=America/Denver:20260422T183000
DTEND;TZID=America/Denver:20260422T203000
DTSTAMP:20260419T071331
CREATED:20250911T230637Z
LAST-MODIFIED:20251209T162030Z
UID:990002232-1776882600-1776889800@cccgreeley.org
SUMMARY:CCStudents Group Night
DESCRIPTION:Join us for Group Night\, a time to connect\, grow\, and build community! Each night will include snacks\, games\, a short message\, and a chance to dive deeper in small groups split by grade. Don’t miss out on these meaningful nights! Reach out to Pastor Adam Hoppe at adam.hoppe@cccgreeley.org for questions.
URL:https://cccgreeley.org/event/ccstudents-group-night/2026-04-22/
LOCATION:709 10th Street\, Greeley\, CO 80631\, 709 10th Street\, Greeley\, CO\, 80631\, United States
CATEGORIES:CC Students
ATTACH;FMTTYPE=image/jpeg:https://cccgreeley.org/wp-content/uploads/2025/09/CCStudents-Group-Night-Event-Slide.jpg
END:VEVENT
END:VCALENDAR